BEGIN:VCALENDAR
VERSION:2.0
PRODID:-//Bibliotekernes festival for historie - ECPv6.15.20//NONSGML v1.0//EN
CALSCALE:GREGORIAN
METHOD:PUBLISH
X-WR-CALNAME:Bibliotekernes festival for historie
X-ORIGINAL-URL:https://historiefestival.dk
X-WR-CALDESC:Begivenheder for Bibliotekernes festival for historie
REFRESH-INTERVAL;VALUE=DURATION:PT1H
X-Robots-Tag:noindex
X-PUBLISHED-TTL:PT1H
BEGIN:VTIMEZONE
TZID:Europe/Copenhagen
BEGIN:DAYLIGHT
TZOFFSETFROM:+0100
TZOFFSETTO:+0200
TZNAME:CEST
DTSTART:20230326T010000
END:DAYLIGHT
BEGIN:STANDARD
TZOFFSETFROM:+0200
TZOFFSETTO:+0100
TZNAME:CET
DTSTART:20231029T010000
END:STANDARD
BEGIN:DAYLIGHT
TZOFFSETFROM:+0100
TZOFFSETTO:+0200
TZNAME:CEST
DTSTART:20240331T010000
END:DAYLIGHT
BEGIN:STANDARD
TZOFFSETFROM:+0200
TZOFFSETTO:+0100
TZNAME:CET
DTSTART:20241027T010000
END:STANDARD
BEGIN:DAYLIGHT
TZOFFSETFROM:+0100
TZOFFSETTO:+0200
TZNAME:CEST
DTSTART:20250330T010000
END:DAYLIGHT
BEGIN:STANDARD
TZOFFSETFROM:+0200
TZOFFSETTO:+0100
TZNAME:CET
DTSTART:20251026T010000
END:STANDARD
END:VTIMEZONE
BEGIN:VEVENT
DTSTART;TZID=Europe/Copenhagen:20241118T163000
DTEND;TZID=Europe/Copenhagen:20241118T173000
DTSTAMP:20260422T142749
CREATED:20241030T135026Z
LAST-MODIFIED:20241030T135405Z
UID:10000041-1731947400-1731951000@historiefestival.dk
SUMMARY:"Danske Værdier": Myter\, løgne og ønsketænkning
DESCRIPTION:Foredrag ved historiker Kalle Kühlmann. \n\n\n\n\nHistoriker Kalle Kühlmann har udviklet dette spændende foredrag til lejligheden. \n\n\n\n\nHan fortæller om\, hvordan udenlandske idealer såsom demokrati\, ytringsfrihed\, fri presse og ubestikkelighed blev historisk omskabt i Danmark til at skabe den moderne myte om “De Danske Værdier.” \n\n\n\nGratis adgang – men husk at bestille billet.
URL:https://historiefestival.dk/event/danske-vaerdier-myter-loegne-og-oensketaenkning/
LOCATION:Taastrup Hovedgade 86 2630 Taastrup Danmark
CATEGORIES:Lokale arrangementer
ATTACH;FMTTYPE=image/jpeg:https://historiefestival.dk/wp-content/uploads/2024/10/Kalle-Kuhlmann.jpg
END:VEVENT
END:VCALENDAR